BEGIN:VCALENDAR
VERSION:2.0
PRODID:-//Sierra Verde PTSO - ECPv6.15.20//NONSGML v1.0//EN
CALSCALE:GREGORIAN
METHOD:PUBLISH
X-WR-CALNAME:Sierra Verde PTSO
X-ORIGINAL-URL:https://sierraverdeptso.com
X-WR-CALDESC:Events for Sierra Verde PTSO
REFRESH-INTERVAL;VALUE=DURATION:PT1H
X-Robots-Tag:noindex
X-PUBLISHED-TTL:PT1H
BEGIN:VTIMEZONE
TZID:America/Phoenix
BEGIN:STANDARD
TZOFFSETFROM:-0700
TZOFFSETTO:-0700
TZNAME:MST
DTSTART:20230101T000000
END:STANDARD
END:VTIMEZONE
BEGIN:VEVENT
DTSTART;VALUE=DATE:20240506
DTEND;VALUE=DATE:20240511
DTSTAMP:20260422T013017
CREATED:20230802T043234Z
LAST-MODIFIED:20230802T043344Z
UID:419-1714953600-1715385599@sierraverdeptso.com
SUMMARY:Teacher Appreciation Week
DESCRIPTION:Join in Teacher Appreciation Week | Thank a Teacher \nThank you for all the love\, care\, and dedication that the Sierra Verde Teachers put into teaching our VIPERS! \nWe are beyond grateful for their guidance and support every year!
URL:https://sierraverdeptso.com/event/teacher-appreciation-week/
LOCATION:Sierra Verde\, 7241 W Rose Garden Ln\, Glendale\, AZ\, 85308\, United States
ATTACH;FMTTYPE=image/jpeg:https://sierraverdeptso.com/wp-content/uploads/2023/08/qtq80-dYmWN3.jpeg
ORGANIZER;CN="PTSO":MAILTO:sierra.verde.ptso@gmail.com
END:VEVENT
BEGIN:VEVENT
DTSTART;TZID=America/Phoenix:20240507T183000
DTEND;TZID=America/Phoenix:20240507T193000
DTSTAMP:20260422T013017
CREATED:20230802T043536Z
LAST-MODIFIED:20230802T043544Z
UID:424-1715106600-1715110200@sierraverdeptso.com
SUMMARY:PTSO | May Meeting & Elections
DESCRIPTION:Join us for the Monthly PTSO Meeting & Elections
URL:https://sierraverdeptso.com/event/ptso-meeting-may/
LOCATION:Sierra Verde Library\, 7241 W Rose Garden Ln\, Glendale\, AZ\, 85308\, United States
ATTACH;FMTTYPE=image/jpeg:https://sierraverdeptso.com/wp-content/uploads/2023/08/qtq80-jtIeLM.jpeg
ORGANIZER;CN="PTSO":MAILTO:sierra.verde.ptso@gmail.com
END:VEVENT
END:VCALENDAR