BEGIN:VCALENDAR
VERSION:2.0
PRODID:-//Sierra Verde PTSO - ECPv6.15.20//NONSGML v1.0//EN
CALSCALE:GREGORIAN
METHOD:PUBLISH
X-ORIGINAL-URL:https://sierraverdeptso.com
X-WR-CALDESC:Events for Sierra Verde PTSO
REFRESH-INTERVAL;VALUE=DURATION:PT1H
X-Robots-Tag:noindex
X-PUBLISHED-TTL:PT1H
BEGIN:VTIMEZONE
TZID:America/Phoenix
BEGIN:STANDARD
TZOFFSETFROM:-0700
TZOFFSETTO:-0700
TZNAME:MST
DTSTART:20230101T000000
END:STANDARD
END:VTIMEZONE
BEGIN:VEVENT
DTSTART;VALUE=DATE:20240226
DTEND;VALUE=DATE:20240307
DTSTAMP:20260422T071543
CREATED:20230802T040607Z
LAST-MODIFIED:20230802T040607Z
UID:403-1708905600-1709769599@sierraverdeptso.com
SUMMARY:APEX Fundraising
DESCRIPTION:APEX Fundraising Begins
URL:https://sierraverdeptso.com/event/apex-fundraising/
LOCATION:Sierra Verde\, 7241 W Rose Garden Ln\, Glendale\, AZ\, 85308\, United States
ATTACH;FMTTYPE=image/jpeg:https://sierraverdeptso.com/wp-content/uploads/2023/08/apex.jpg
ORGANIZER;CN="PTSO":MAILTO:sierra.verde.ptso@gmail.com
END:VEVENT
END:VCALENDAR