BEGIN:VCALENDAR
VERSION:2.0
PRODID:-//Sierra Verde PTSO - ECPv6.15.20//NONSGML v1.0//EN
CALSCALE:GREGORIAN
METHOD:PUBLISH
X-ORIGINAL-URL:https://sierraverdeptso.com
X-WR-CALDESC:Events for Sierra Verde PTSO
REFRESH-INTERVAL;VALUE=DURATION:PT1H
X-Robots-Tag:noindex
X-PUBLISHED-TTL:PT1H
BEGIN:VTIMEZONE
TZID:America/Phoenix
BEGIN:STANDARD
TZOFFSETFROM:-0700
TZOFFSETTO:-0700
TZNAME:MST
DTSTART:20220101T000000
END:STANDARD
END:VTIMEZONE
BEGIN:VEVENT
DTSTART;VALUE=DATE:20231029
DTEND;VALUE=DATE:20231105
DTSTAMP:20260424T131704
CREATED:20230802T034538Z
LAST-MODIFIED:20230802T045354Z
UID:392-1698537600-1699142399@sierraverdeptso.com
SUMMARY:Silent Auction
DESCRIPTION:Support our Silent Auction! \nPreview Starts on 10/23 \nBidding Opens: October 29th\, 2023 at 12:00 PM \nBidding Closes: November 4th\, 2023 at 8:00 PM \nStay tuned for more info!
URL:https://sierraverdeptso.com/event/silent-auction/
LOCATION:Sierra Verde\, 7241 W Rose Garden Ln\, Glendale\, AZ\, 85308\, United States
ATTACH;FMTTYPE=image/jpeg:https://sierraverdeptso.com/wp-content/uploads/2023/08/qtq80-ustacf.jpeg
ORGANIZER;CN="PTSO":MAILTO:sierra.verde.ptso@gmail.com
END:VEVENT
END:VCALENDAR